BEGIN:VCALENDAR
VERSION:2.0
PRODID:-//SpotlightPROFILE - ECPv6.15.18//NONSGML v1.0//EN
CALSCALE:GREGORIAN
METHOD:PUBLISH
X-ORIGINAL-URL:https://spotlightprofile.nl
X-WR-CALDESC:Evenementen voor SpotlightPROFILE
REFRESH-INTERVAL;VALUE=DURATION:PT1H
X-Robots-Tag:noindex
X-PUBLISHED-TTL:PT1H
BEGIN:VTIMEZONE
TZID:Europe/Paris
BEGIN:DAYLIGHT
TZOFFSETFROM:+0100
TZOFFSETTO:+0200
TZNAME:CEST
DTSTART:20190331T010000
END:DAYLIGHT
BEGIN:STANDARD
TZOFFSETFROM:+0200
TZOFFSETTO:+0100
TZNAME:CET
DTSTART:20191027T010000
END:STANDARD
BEGIN:DAYLIGHT
TZOFFSETFROM:+0100
TZOFFSETTO:+0200
TZNAME:CEST
DTSTART:20200329T010000
END:DAYLIGHT
BEGIN:STANDARD
TZOFFSETFROM:+0200
TZOFFSETTO:+0100
TZNAME:CET
DTSTART:20201025T010000
END:STANDARD
BEGIN:DAYLIGHT
TZOFFSETFROM:+0100
TZOFFSETTO:+0200
TZNAME:CEST
DTSTART:20210328T010000
END:DAYLIGHT
BEGIN:STANDARD
TZOFFSETFROM:+0200
TZOFFSETTO:+0100
TZNAME:CET
DTSTART:20211031T010000
END:STANDARD
BEGIN:DAYLIGHT
TZOFFSETFROM:+0100
TZOFFSETTO:+0200
TZNAME:CEST
DTSTART:20220327T010000
END:DAYLIGHT
BEGIN:STANDARD
TZOFFSETFROM:+0200
TZOFFSETTO:+0100
TZNAME:CET
DTSTART:20221030T010000
END:STANDARD
BEGIN:DAYLIGHT
TZOFFSETFROM:+0100
TZOFFSETTO:+0200
TZNAME:CEST
DTSTART:20230326T010000
END:DAYLIGHT
BEGIN:STANDARD
TZOFFSETFROM:+0200
TZOFFSETTO:+0100
TZNAME:CET
DTSTART:20231029T010000
END:STANDARD
BEGIN:DAYLIGHT
TZOFFSETFROM:+0100
TZOFFSETTO:+0200
TZNAME:CEST
DTSTART:20240331T010000
END:DAYLIGHT
BEGIN:STANDARD
TZOFFSETFROM:+0200
TZOFFSETTO:+0100
TZNAME:CET
DTSTART:20241027T010000
END:STANDARD
END:VTIMEZONE
BEGIN:VTIMEZONE
TZID:Europe/Helsinki
BEGIN:DAYLIGHT
TZOFFSETFROM:+0200
TZOFFSETTO:+0300
TZNAME:EEST
DTSTART:20180325T010000
END:DAYLIGHT
BEGIN:STANDARD
TZOFFSETFROM:+0300
TZOFFSETTO:+0200
TZNAME:EET
DTSTART:20181028T010000
END:STANDARD
BEGIN:DAYLIGHT
TZOFFSETFROM:+0200
TZOFFSETTO:+0300
TZNAME:EEST
DTSTART:20190331T010000
END:DAYLIGHT
BEGIN:STANDARD
TZOFFSETFROM:+0300
TZOFFSETTO:+0200
TZNAME:EET
DTSTART:20191027T010000
END:STANDARD
BEGIN:DAYLIGHT
TZOFFSETFROM:+0200
TZOFFSETTO:+0300
TZNAME:EEST
DTSTART:20200329T010000
END:DAYLIGHT
BEGIN:STANDARD
TZOFFSETFROM:+0300
TZOFFSETTO:+0200
TZNAME:EET
DTSTART:20201025T010000
END:STANDARD
BEGIN:DAYLIGHT
TZOFFSETFROM:+0200
TZOFFSETTO:+0300
TZNAME:EEST
DTSTART:20210328T010000
END:DAYLIGHT
BEGIN:STANDARD
TZOFFSETFROM:+0300
TZOFFSETTO:+0200
TZNAME:EET
DTSTART:20211031T010000
END:STANDARD
END:VTIMEZONE
BEGIN:VEVENT
DTSTART;TZID=Europe/Paris:20230515T090000
DTEND;TZID=Europe/Paris:20230516T170000
DTSTAMP:20260420T080455
CREATED:20230109T144323Z
LAST-MODIFIED:20230109T144618Z
UID:36088-1684141200-1684256400@spotlightprofile.nl
SUMMARY:SpotlightPROFILE Practitioner Training                      15 & 16 mei 2023
DESCRIPTION:Wil jij jouw coaching next level brengen? Meld je dan aan voor de 2-daagse practitioner training.\nNa de training zal je met vertrouwen vertrekken om zelfstandig SpotlightPROFILE in te zetten binnen je organisatie of bij je cliënten.\nJe krijgt je eigen Spotlight ‘Practitioner Account’ om SpotlightPROFILE ID’S aan te maken\, team-maps samen te stellen en toegang te krijgen tot slides en andere materialen. De 3 gratis SpotlightPROFILE’s zullen je helpen om zelfvertrouwen op te bouwen en de tool te integreren in jouw praktijk.\nMeer informatie over de training: https://spotlightprofile.nl/training/
URL:https://spotlightprofile.nl/cursus/spotlightprofile-practitioner-training-15-16-mei-2023/
LOCATION:Bussum
ORGANIZER;CN="Rogier Hoorn":MAILTO:info@spotlightprofile.nl
END:VEVENT
BEGIN:VEVENT
DTSTART;VALUE=DATE:20221122
DTEND;VALUE=DATE:20221124
DTSTAMP:20260420T080455
CREATED:20200602T094411Z
LAST-MODIFIED:20221118T085822Z
UID:7475-1669075200-1669247999@spotlightprofile.nl
SUMMARY:SpotlightPROFILE Practitioner Training                      22 & 23 nov 2022
DESCRIPTION:Wil jij jouw coaching next level brengen? Meld je dan aan voor de 2-daagse practitioner training.\nNa de training zal je met vertrouwen vertrekken om zelfstandig SpotlightPROFILE in te zetten binnen je organisatie of bij je cliënten.\nJe krijgt je eigen Spotlight ‘Practitioner Account’ om SpotlightPROFILE ID’S aan te maken\, team-maps samen te stellen en toegang te krijgen tot slides en andere materialen. De 3 gratis SpotlightPROFILE’s zullen je helpen om zelfvertrouwen op te bouwen en de tool te integreren in jouw praktijk.\nMeer informatie over de training: https://spotlightprofile.nl/training/
URL:https://spotlightprofile.nl/cursus/spotlightprofile-practitioner/
LOCATION:Bussum
ORGANIZER;CN="Rogier Hoorn":MAILTO:info@spotlightprofile.nl
END:VEVENT
BEGIN:VEVENT
DTSTART;TZID=Europe/Paris:20220629T193000
DTEND;TZID=Europe/Paris:20220629T213000
DTSTAMP:20260420T080455
CREATED:20200908T120512Z
LAST-MODIFIED:20220525T104132Z
UID:9596-1656531000-1656538200@spotlightprofile.nl
SUMMARY:SpotlightPROFILE Refresher (online\, voor geaccrediteerde practitioners)
DESCRIPTION:Speciaal voor voor de geaccrediteerde SpotlightPROFILE Practitioner bieden we in 2022 weer een gratis online Refreshers aan\, waarin we jou samen met andere collega practitioners updaten over SpotlightPROFILE en we jouw vragen behandelen. Deze keer geven een voorbeeld individuele debriefing van een profiel en vertellen hoe we een teamtraining bij het CIOS en de Traumahelicopter hebben aangepakt\, inclusief wat ins en outs over het gebruik van de Teammap.
URL:https://spotlightprofile.nl/cursus/spotlightprofile-refresher-online-voor-geaccrediteerde-practitioners-2/
LOCATION:Zoom
ORGANIZER;CN="Rogier Hoorn":MAILTO:info@spotlightprofile.nl
END:VEVENT
BEGIN:VEVENT
DTSTART;VALUE=DATE:20211111
DTEND;VALUE=DATE:20211113
DTSTAMP:20260420T080455
CREATED:20210430T090139Z
LAST-MODIFIED:20210706T162726Z
UID:15471-1636588800-1636761599@spotlightprofile.nl
SUMMARY:SpotlightPROFILE Practitioner Training (LIVE) – 11 & 12 november 2021\, 9.00-17.00 uur
DESCRIPTION:Wil jij jouw coaching next level brengen? Meld je dan aan voor de 2-daagse practitioner training.\nNa de training zal je met vertrouwen vertrekken om zelfstandig SpotlightPROFILE in te zetten binnen je organisatie of bij je cliënten.\nJe krijgt je eigen Spotlight ‘Practitioner Account’ om SpotlightPROFILE ID’S aan te maken\, team-maps samen te stellen en toegang te krijgen tot slides en andere materialen. De 3 gratis SpotlightPROFILE’s zullen je helpen om zelfvertrouwen op te bouwen en de tool te integreren in jouw praktijk.\nMeer informatie over de training: https://spotlightprofile.nl/training/
URL:https://spotlightprofile.nl/cursus/spotlightprofile-practitioner-training-live-11-12-november-2021-9-00-17-00-uur/
LOCATION:Eindhoven
END:VEVENT
BEGIN:VEVENT
DTSTART;TZID=Europe/Paris:20201005T200000
DTEND;TZID=Europe/Paris:20201005T213000
DTSTAMP:20260420T080455
CREATED:20200908T115601Z
LAST-MODIFIED:20200908T120429Z
UID:9589-1601928000-1601933400@spotlightprofile.nl
SUMMARY:SpotlightPROFILE Refresher (online\, voor geaccrediteerde practitioners)
DESCRIPTION:Speciaal voor voor de geaccrediteerde SpotlightPROFILE Practitioner bieden we in 2020 nog 2 gratis online Refreshers aan\, beiden in de vorm van intervisie waarin we jou samen met andere collega practitioners updaten over SpotlightPROFILE en we jouw vragen en casuistiek bespreken\, zoals: hoe verkoop ik Spotlight? Data: maandagavond 5 oktober & woensdagavond 2 december 2020
URL:https://spotlightprofile.nl/cursus/spotlightprofile-refresher-voor-geaccrediteerde-practitioners/
END:VEVENT
BEGIN:VEVENT
DTSTART;TZID=Europe/Paris:20200916T200000
DTEND;TZID=Europe/Paris:20200916T213000
DTSTAMP:20260420T080455
CREATED:20200825T151952Z
LAST-MODIFIED:20200915T114028Z
UID:9193-1600286400-1600291800@spotlightprofile.nl
SUMMARY:SpotlightPROFILE Fundamentals (online) wo 16 sept 20.00-21.30 uur
DESCRIPTION:De SpotlightPROFILE Fundamentals is een 1\,5 uur online training.\nSpeciaal aanbod: van EUR 125 voor EUR 85 ex btw.\nEn wees er snel bij want er zijn maar 10 plekken beschikbaar. \n– Maximaal 10 deelnemers\, vol is vol\n– Ontvang jouw eigen SpotlightPROFILE analyse\n– Leer over de ins en outs van het Spotlight framework\n– Oefen met een SpotlightPROFILE coachingsessie \nMet het volgen van de SpotlightPROFILE Fundamentals heb je een eerste basis gelegd voor de  SpotlightPROFILE Practitioner training en ontvang je 10% korting op die training. Info over het vervolgtraject ontvang je na de Fundamentals.
URL:https://spotlightprofile.nl/cursus/spotlightprofile-fundamentals-online-wo-16-sept-20-00-21-30-uur/
LOCATION:VOLGEBOEKT
ORGANIZER;CN="Rogier Hoorn":MAILTO:info@spotlightprofile.nl
END:VEVENT
BEGIN:VEVENT
DTSTART;TZID=Europe/Paris:20200907T200000
DTEND;TZID=Europe/Paris:20200907T213000
DTSTAMP:20260420T080455
CREATED:20200825T151052Z
LAST-MODIFIED:20200826T092546Z
UID:9185-1599508800-1599514200@spotlightprofile.nl
SUMMARY:SpotlightPROFILE Fundamentals (online) ma 7 sept 20.00-21.30 uur
DESCRIPTION:De SpotlightPROFILE Fundamentals is een 1\,5 uur online training.\nSpeciaal aanbod: van EUR 125 voor EUR 85 ex btw.\nEn wees er snel bij want er zijn maar 10 plekken beschikbaar. \n– Maximaal 10 deelnemers\, vol is vol\n– Ontvang jouw eigen SpotlightPROFILE analyse\n– Leer over de ins en outs van het Spotlight framework\n– Oefen met een SpotlightPROFILE coachingsessie \nMet het volgen van de SpotlightPROFILE Fundamentals heb je een eerste basis gelegd voor de  SpotlightPROFILE Practitioner training en ontvang je 10% korting op die training. Info over het vervolgtraject ontvang je na de Fundamentals.
URL:https://spotlightprofile.nl/cursus/spotlightprofile-fundamentals-ma-7-sept-20-00-21-30-uur/
LOCATION:Zoom
ORGANIZER;CN="Rogier Hoorn":MAILTO:info@spotlightprofile.nl
END:VEVENT
BEGIN:VEVENT
DTSTART;VALUE=DATE:20200825
DTEND;VALUE=DATE:20210101
DTSTAMP:20260420T080455
CREATED:20200825T155611Z
LAST-MODIFIED:20200825T160452Z
UID:9205-1598313600-1609459199@spotlightprofile.nl
SUMMARY:SpotlightPROFILE Teamworkshop
DESCRIPTION:SpotlightPROFILE NL faciliteert binnen jouw organisatie een online of fysieke training van 2 uur \n– Individuele SpotlightPROFILE analyses & Teamprofiel\n– Overeenkomsten\, verschillen\, kwaliteiten en ontwikkelpunten voor het team\n– Team-ontwikkeladvies van de headcoach van SpotlightPROFILE NL \nKoop 1 ticket per teamlid en ervaar de kracht van Spotlight
URL:https://spotlightprofile.nl/cursus/spotlightprofile-teamworkshop/
LOCATION:Live of via Zoom\, prijs per teamlid
ORGANIZER;CN="Rogier Hoorn":MAILTO:info@spotlightprofile.nl
END:VEVENT
BEGIN:VEVENT
DTSTART;VALUE=DATE:20200701
DTEND;VALUE=DATE:20200703
DTSTAMP:20260420T080455
CREATED:20191212T125946Z
LAST-MODIFIED:20200826T091702Z
UID:3604-1593561600-1593734399@spotlightprofile.nl
SUMMARY:SpotlightPROFILE Practitioner Training - 1 & 2 juli 2020\, 9.30-16.30 uur
DESCRIPTION:
URL:https://spotlightprofile.nl/cursus/training-juli-2020/
LOCATION:VOLGEBOEKT
ORGANIZER;CN="Rogier Hoorn":MAILTO:info@spotlightprofile.nl
END:VEVENT
BEGIN:VEVENT
DTSTART;TZID=Europe/Paris:20200616T200000
DTEND;TZID=Europe/Paris:20200616T213000
DTSTAMP:20260420T080455
CREATED:20200526T123719Z
LAST-MODIFIED:20200603T141433Z
UID:7308-1592337600-1592343000@spotlightprofile.nl
SUMMARY:SpotlightPROFILE Refresher - 16 juni 20.00-21.30 uur (online\, voor geaccrediteerde Practitioners)
DESCRIPTION:Na de refresher van eind maart nodigen wij je graag uit voor de volgende op woensdag 17 juni.\nSamen met andere Nederlandse SpotlightPROFILE practitioners kletsen we je graag bij over de ontwikkelingen van Spotlight\, bespreken we de voortgang van jouw toepassing van de tool\,  behandelen we casusvragen van de deelnemers. \nWanneer: dinsdag 16 juni van 20.00-21.30 uur\nWaar: via Zoom\, je ontvangt een uitnodiging na aanmelding\nKosten: GRATIS\nPlekken: er zijn 20 plekken om interactie overzichtelijk te houden. Bij meer aanmeldingen plannen we een 2e.\nAanmelden: door deze mail te reply-en \nWe hopen je daar te zien!\nRogier & Joost
URL:https://spotlightprofile.nl/cursus/spotlightprofile-refresher-online-voor-geaccrediteerde-practitioners/
LOCATION:Je ontvangt de Zoom-link voor de training
ORGANIZER;CN="Rogier Hoorn":MAILTO:info@spotlightprofile.nl
END:VEVENT
BEGIN:VEVENT
DTSTART;VALUE=DATE:20200609
DTEND;VALUE=DATE:20200610
DTSTAMP:20260420T080455
CREATED:20200410T144801Z
LAST-MODIFIED:20200529T104930Z
UID:5948-1591660800-1591747199@spotlightprofile.nl
SUMMARY:SpotlightPROFILE Fundamentals (online) - dinsdag 9 juni 20.00-21.30 uur
DESCRIPTION:De SpotlightPROFILE Fundamentals is een 2 x 1\,5 uur online training.\nSpeciaal aanbod: van EUR 150 voor EUR 75 ex btw.\nEn wees er snel bij want er zijn maar 10 plekken per Fundamental. \n– Maximaal 10 deelnemers\, vol is vol\n– Ontvang jouw eigen SpotlightPROFILE analyse\n– Leer over de ins en outs van het Spotlight framework\n– Oefen met een SpotlightPROFILE coachingsessies \nMet het volgen van de SpotlightPROFILE Fundamentals heb je een basis gelegd voor de  SpotlightPROFILE Practitioner training. Info over het vervolgtraject ontvang je na de Fundamental.
URL:https://spotlightprofile.nl/cursus/spotlightprofile-fundamentals-online-vrijdag-1-mei-vrijdag-8-mei-13-00-14-30-uur/
LOCATION:Je ontvangt de Zoom-link voor de training
ORGANIZER;CN="Rogier Hoorn":MAILTO:info@spotlightprofile.nl
END:VEVENT
BEGIN:VEVENT
DTSTART;TZID=Europe/Paris:20200529T130000
DTEND;TZID=Europe/Paris:20200529T140000
DTSTAMP:20260420T080455
CREATED:20200525T121733Z
LAST-MODIFIED:20200525T131114Z
UID:7253-1590757200-1590760800@spotlightprofile.nl
SUMMARY:SpotlightPROFILE Virtual Experience (gratis & online)
DESCRIPTION:We nodigen je graag uit om deze nieuwe\, innovatieve management & coaching-tool te verkennen middels de kosteloze SpotlightPROFILE Virtual Experience.\nIn dit korte webinar ervaar jij hoe Spotlight werkt en hoe jij jouw mensen next level kan brengen door:\n-scherper inzicht te krijgen in gedragsstijl én mindset\n-flexibiliteit en aanpassingsvermogen te creëren\n-team en individu optimaal te leren presteren onder druk\n-een winnende mindset te ontwikkelen\n-teameffectiviteit te stimuleren.\nZin in? Meld je aan en wij sturen jou het Spotlight E-Book en de Zoom-link voor deelname. \nSpotlightPROFILE vindt zijn oorsprong in Engeland en is ontwikkeld door prestatiepsychologen met jarenlange ervaring in de topsport\, waarin presteren onder druk centraal staat. Spotlight wordt succesvol ingezet bij gerenommeerde organisaties in de UK en wij van SpotlightPROFILE NL rollen deze tool sinds 2019 uit in Nederland. We hopen je te zien op een van de SpotlightPROFILE Virtual Experiences.
URL:https://spotlightprofile.nl/cursus/spotlightprofile-virtual-experience-gratis-en-online-2/
LOCATION:Zoom
ORGANIZER;CN="Rogier Hoorn":MAILTO:info@spotlightprofile.nl
END:VEVENT
BEGIN:VEVENT
DTSTART;TZID=Europe/Paris:20200525T200000
DTEND;TZID=Europe/Paris:20200525T210000
DTSTAMP:20260420T080455
CREATED:20200525T121515Z
LAST-MODIFIED:20200525T131144Z
UID:7250-1590436800-1590440400@spotlightprofile.nl
SUMMARY:SpotlightPROFILE Virtual Experience (gratis & online)
DESCRIPTION:We nodigen je graag uit om deze nieuwe\, innovatieve management & coaching-tool te verkennen middels de kosteloze SpotlightPROFILE Virtual Experience.\nIn dit korte webinar ervaar jij hoe Spotlight werkt en hoe jij jouw mensen next level kan brengen door:\n-scherper inzicht te krijgen in gedragsstijl én mindset\n-flexibiliteit en aanpassingsvermogen te creëren\n-team en individu optimaal te leren presteren onder druk\n-een winnende mindset te ontwikkelen\n-teameffectiviteit te stimuleren.\nZin in? Meld je aan en wij sturen jou het Spotlight E-Book en de Zoom-link voor deelname. \nSpotlightPROFILE vindt zijn oorsprong in Engeland en is ontwikkeld door prestatiepsychologen met jarenlange ervaring in de topsport\, waarin presteren onder druk centraal staat. Spotlight wordt succesvol ingezet bij gerenommeerde organisaties in de UK en wij van SpotlightPROFILE NL rollen deze tool sinds 2019 uit in Nederland. We hopen je te zien op een van de SpotlightPROFILE Virtual Experiences.
URL:https://spotlightprofile.nl/cursus/spotlightprofile-virtual-experience-gratis-en-online/
LOCATION:Zoom
END:VEVENT
BEGIN:VEVENT
DTSTART;VALUE=DATE:20200430
DTEND;VALUE=DATE:20200508
DTSTAMP:20260420T080455
CREATED:20200410T075349Z
LAST-MODIFIED:20200426T091912Z
UID:5854-1588204800-1588895999@spotlightprofile.nl
SUMMARY:SpotlightPROFILE Fundamentals (online) - do 30 april & do 7 mei\, 9.00-10.30 uur
DESCRIPTION:De SpotlightPROFILE Fundamentals is een 2 x 1\,5 uur online training.\nSpeciaal aanbod: van EUR 198 voor EUR 99 ex btw.\nEn wees er snel bij want er zijn maar 10 plekken per Fundamental. \n– Maximaal 10 deelnemers\, vol is vol\n– Ontvang jouw eigen SpotlightPROFILE analyse\n– Leer over de ins en outs van het Spotlight framework\n– Oefen met 2 SpotlightPROFILE coachingsessies \nMet het volgen van de SpotlightPROFILE Fundamentals heb je een basis gelegd voor de  SpotlightPROFILE Practitioner training en ontvang je een korting op het vervolg. Als geaccrediteerd practitioner kun je SpotlightPROFILE zelf inzetten binnen jouw praktijk of organisatie. Speciaal aanbod vervolg training: van EUR 795 voor 495 ex btw. Info over het vervolgtraject ontvang je na de Fundamental.
URL:https://spotlightprofile.nl/cursus/spotlightprofile-fundamentals-webinar/
LOCATION:Je ontvangt de Zoom-link voor de training
ORGANIZER;CN="Rogier Hoorn":MAILTO:info@spotlightprofile.nl
END:VEVENT
BEGIN:VEVENT
DTSTART;VALUE=DATE:20200429
DTEND;VALUE=DATE:20200507
DTSTAMP:20260420T080455
CREATED:20200410T141404Z
LAST-MODIFIED:20200426T091721Z
UID:5910-1588118400-1588809599@spotlightprofile.nl
SUMMARY:SpotlightPROFILE Fundamentals (online) - wo 29 april & wo 6 mei\, 20.00-21.30 uur
DESCRIPTION:De SpotlightPROFILE Fundamentals is een 2 x 1\,5 uur online training.\nSpeciaal aanbod: van EUR 198 voor EUR 99 ex btw.\nEn wees er snel bij want er zijn maar 10 plekken per Fundamental. \n– Maximaal 10 deelnemers\, vol is vol\n– Ontvang jouw eigen SpotlightPROFILE analyse\n– Leer over de ins en outs van het Spotlight framework\n– Oefen met 2 SpotlightPROFILE coachingsessies \nMet het volgen van de SpotlightPROFILE Fundamentals heb je een basis gelegd voor de  SpotlightPROFILE Practitioner training en ontvang je een korting op het vervolg. Als geaccrediteerd practitioner kun je SpotlightPROFILE zelf inzetten binnen jouw praktijk of organisatie. Speciaal aanbod vervolg training: van EUR 795 voor 495 ex btw. Info over het vervolgtraject ontvang je na de Fundamental.
URL:https://spotlightprofile.nl/cursus/spotlightprofile-fundamentals-online-wo-29-april-en-wo-6-mei-20-00-21-30-uur/
LOCATION:Je ontvangt de Zoom-link voor de training
ORGANIZER;CN="Rogier Hoorn":MAILTO:info@spotlightprofile.nl
END:VEVENT
BEGIN:VEVENT
DTSTART;VALUE=DATE:20200428
DTEND;VALUE=DATE:20200506
DTSTAMP:20260420T080455
CREATED:20200410T145749Z
LAST-MODIFIED:20200410T150742Z
UID:5958-1588032000-1588723199@spotlightprofile.nl
SUMMARY:SpotlightPROFILE Fundamentals (online) - di 28 april &  di 5 mei\, 20.00-21.30 uur
DESCRIPTION:
URL:https://spotlightprofile.nl/cursus/spotlightprofile-fundamentals-online-di-28-april-di-5-mei-20-00-21-30-uur-volgeboekt/
LOCATION:VOLGEBOEKT
ORGANIZER;CN="Rogier Hoorn":MAILTO:info@spotlightprofile.nl
END:VEVENT
BEGIN:VEVENT
DTSTART;VALUE=DATE:20200427
DTEND;VALUE=DATE:20200505
DTSTAMP:20260420T080455
CREATED:20200410T145918Z
LAST-MODIFIED:20200410T151049Z
UID:5960-1587945600-1588636799@spotlightprofile.nl
SUMMARY:SpotlightPROFILE Fundamentals (online) - ma 27 april &  ma 4 mei\, 9.00-10.30 uur
DESCRIPTION:
URL:https://spotlightprofile.nl/cursus/spotlightprofile-fundamentals-online-ma-27-april-ma-4-mei-9-00-10-30-uur-volgeboekt/
LOCATION:VOLGEBOEKT
END:VEVENT
BEGIN:VEVENT
DTSTART;VALUE=DATE:20200131
DTEND;VALUE=DATE:20200202
DTSTAMP:20260420T080455
CREATED:20191205T124023Z
LAST-MODIFIED:20200410T150304Z
UID:3499-1580428800-1580601599@spotlightprofile.nl
SUMMARY:SpotlightPROFILE Practitioner Training 31 Januari & 1 Februari 2020 - VOLGEBOEKT
DESCRIPTION:
URL:https://spotlightprofile.nl/cursus/cursus-1-2020/
LOCATION:Filmhuis Bussum of SX Eindhoven
ORGANIZER;CN="Rogier Hoorn":MAILTO:info@spotlightprofile.nl
END:VEVENT
BEGIN:VEVENT
DTSTART;VALUE=DATE:20191219
DTEND;VALUE=DATE:20191221
DTSTAMP:20260420T080455
CREATED:20191212T130755Z
LAST-MODIFIED:20200410T153435Z
UID:3609-1576713600-1576886399@spotlightprofile.nl
SUMMARY:SpotlightPROFILE Practitioner Training\, 19 & 20 December 2019 - VOLGEBOEKT
DESCRIPTION:
URL:https://spotlightprofile.nl/cursus/training-december-2020/
LOCATION:Eindhoven
ORGANIZER;CN="Rogier Hoorn":MAILTO:info@spotlightprofile.nl
END:VEVENT
END:VCALENDAR